BEGIN:VCALENDAR
VERSION:2.0
PRODID:-//MOS GORZÓW Międzyszkolny Ośrodek Sportowy Gorzów Wielkopolski - ECPv5.10.1//NONSGML v1.0//EN
CALSCALE:GREGORIAN
METHOD:PUBLISH
X-WR-CALNAME:MOS GORZÓW Międzyszkolny Ośrodek Sportowy Gorzów Wielkopolski
X-ORIGINAL-URL:https://mosgorzow.pl
X-WR-CALDESC:Events for MOS GORZÓW Międzyszkolny Ośrodek Sportowy Gorzów Wielkopolski
BEGIN:VTIMEZONE
TZID:Europe/Warsaw
BEGIN:DAYLIGHT
TZOFFSETFROM:+0100
TZOFFSETTO:+0200
TZNAME:CEST
DTSTART:20240331T010000
END:DAYLIGHT
BEGIN:STANDARD
TZOFFSETFROM:+0200
TZOFFSETTO:+0100
TZNAME:CET
DTSTART:20241027T010000
END:STANDARD
END:VTIMEZONE
BEGIN:VEVENT
DTSTART;TZID=Europe/Warsaw:20241107T000000
DTEND;TZID=Europe/Warsaw:20241107T000000
DTSTAMP:20260425T182711
CREATED:20241025T111351Z
LAST-MODIFIED:20241025T111351Z
UID:2732-1730937600-1730937600@mosgorzow.pl
SUMMARY:FINAŁY - UNIHOKEJ CHŁOPCÓW- Licealiada
DESCRIPTION:
URL:https://mosgorzow.pl/event/finaly-unihokej-chlopcow-licealiada/
LOCATION:I Liceum Ogólnokształcące\, ul. Puszkina\, Gorzów Wielkopolski\, Lubuskie\, 66-400\, Poland
END:VEVENT
END:VCALENDAR