BEGIN:VCALENDAR
VERSION:2.0
PRODID:-//MOS GORZÓW Międzyszkolny Ośrodek Sportowy Gorzów Wielkopolski - ECPv5.10.1//NONSGML v1.0//EN
CALSCALE:GREGORIAN
METHOD:PUBLISH
X-WR-CALNAME:MOS GORZÓW Międzyszkolny Ośrodek Sportowy Gorzów Wielkopolski
X-ORIGINAL-URL:https://mosgorzow.pl
X-WR-CALDESC:Events for MOS GORZÓW Międzyszkolny Ośrodek Sportowy Gorzów Wielkopolski
BEGIN:VTIMEZONE
TZID:Europe/Warsaw
BEGIN:DAYLIGHT
TZOFFSETFROM:+0100
TZOFFSETTO:+0200
TZNAME:CEST
DTSTART:20250330T010000
END:DAYLIGHT
BEGIN:STANDARD
TZOFFSETFROM:+0200
TZOFFSETTO:+0100
TZNAME:CET
DTSTART:20251026T010000
END:STANDARD
END:VTIMEZONE
BEGIN:VEVENT
DTSTART;TZID=Europe/Warsaw:20250311T090000
DTEND;TZID=Europe/Warsaw:20250311T170000
DTSTAMP:20260423T175025
CREATED:20250317T062557Z
LAST-MODIFIED:20250317T062557Z
UID:2972-1741683600-1741712400@mosgorzow.pl
SUMMARY:IGRZYSKA DZIECI - Piłka ręczna dziewcząt GRUPA A
DESCRIPTION:Grupa A \n\nSP 20\nSp 4\nSP 2
URL:https://mosgorzow.pl/event/igrzyska-dzieci-pilka-reczna-dziewczat-grupa-a/
LOCATION:Szkoła Podstawowa nr 20\, ul. Szarych Szeregów 7\, Gorzów Wielkopolski\, Lubuskie\, 66-400
END:VEVENT
END:VCALENDAR