BEGIN:VCALENDAR
VERSION:2.0
PRODID:-//MOS GORZÓW Międzyszkolny Ośrodek Sportowy Gorzów Wielkopolski - ECPv5.10.1//NONSGML v1.0//EN
CALSCALE:GREGORIAN
METHOD:PUBLISH
X-WR-CALNAME:MOS GORZÓW Międzyszkolny Ośrodek Sportowy Gorzów Wielkopolski
X-ORIGINAL-URL:https://mosgorzow.pl
X-WR-CALDESC:Events for MOS GORZÓW Międzyszkolny Ośrodek Sportowy Gorzów Wielkopolski
BEGIN:VTIMEZONE
TZID:Europe/Warsaw
BEGIN:DAYLIGHT
TZOFFSETFROM:+0100
TZOFFSETTO:+0200
TZNAME:CEST
DTSTART:20250330T010000
END:DAYLIGHT
BEGIN:STANDARD
TZOFFSETFROM:+0200
TZOFFSETTO:+0100
TZNAME:CET
DTSTART:20251026T010000
END:STANDARD
END:VTIMEZONE
BEGIN:VEVENT
DTSTART;TZID=Europe/Warsaw:20250224T090000
DTEND;TZID=Europe/Warsaw:20250226T133000
DTSTAMP:20260424T021614
CREATED:20250204T120642Z
LAST-MODIFIED:20250204T120642Z
UID:2901-1740387600-1740576600@mosgorzow.pl
SUMMARY:IGRZYSKA MŁODZIEŻY SZKOLNEJ - siatkówka chłopców - grupa A
DESCRIPTION:IGRZYSKA MŁODZIEŻY SZKOLNEJ – siatkówka chłopców – grupa A \n\n\n\nGrupa A\n\n\n\n\nSP 16\nSP 17\nSP 2\nSP 10
URL:https://mosgorzow.pl/event/igrzyska-mlodziezy-szkolnej-siatkowka-chlopcow-grupa-a/
LOCATION:ZSO 16\, Ul. Dunikowskiego 5\, Gorzów wielkopolski\, Poland
END:VEVENT
END:VCALENDAR