BEGIN:VCALENDAR
VERSION:2.0
PRODID:-//MOS GORZÓW Międzyszkolny Ośrodek Sportowy Gorzów Wielkopolski - ECPv5.10.1//NONSGML v1.0//EN
CALSCALE:GREGORIAN
METHOD:PUBLISH
X-WR-CALNAME:MOS GORZÓW Międzyszkolny Ośrodek Sportowy Gorzów Wielkopolski
X-ORIGINAL-URL:https://mosgorzow.pl
X-WR-CALDESC:Events for MOS GORZÓW Międzyszkolny Ośrodek Sportowy Gorzów Wielkopolski
BEGIN:VTIMEZONE
TZID:Europe/Warsaw
BEGIN:DAYLIGHT
TZOFFSETFROM:+0100
TZOFFSETTO:+0200
TZNAME:CEST
DTSTART:20250330T010000
END:DAYLIGHT
BEGIN:STANDARD
TZOFFSETFROM:+0200
TZOFFSETTO:+0100
TZNAME:CET
DTSTART:20251026T010000
END:STANDARD
END:VTIMEZONE
BEGIN:VEVENT
DTSTART;TZID=Europe/Warsaw:20250225T103000
DTEND;TZID=Europe/Warsaw:20250227T133000
DTSTAMP:20260424T005140
CREATED:20250204T120848Z
LAST-MODIFIED:20250204T120848Z
UID:2903-1740479400-1740663000@mosgorzow.pl
SUMMARY:IGRZYSKA MŁODZIEŻY SZKOLNEJ - siatkówka chłopców - grupa B
DESCRIPTION:IGRZYSKA MŁODZIEŻY SZKOLNEJ – siatkówka chłopców – grupa B \n\n\n\nGrupa B\n\n\n\n\nSP 21\nSP 4\nSP 5\nSP 20
URL:https://mosgorzow.pl/event/igrzyska-mlodziezy-szkolnej-siatkowka-chlopcow-grupa-b/
LOCATION:Szkoła Podstawowa nr 21\, ul. Taczaka\, Gorzów Wielkopolski\, Lubuskie\, 66 - 400\, Poland
END:VEVENT
END:VCALENDAR