BEGIN:VCALENDAR
VERSION:2.0
PRODID:-//MOS GORZÓW Międzyszkolny Ośrodek Sportowy Gorzów Wielkopolski - ECPv5.10.1//NONSGML v1.0//EN
CALSCALE:GREGORIAN
METHOD:PUBLISH
X-WR-CALNAME:MOS GORZÓW Międzyszkolny Ośrodek Sportowy Gorzów Wielkopolski
X-ORIGINAL-URL:https://mosgorzow.pl
X-WR-CALDESC:Events for MOS GORZÓW Międzyszkolny Ośrodek Sportowy Gorzów Wielkopolski
BEGIN:VTIMEZONE
TZID:Europe/Warsaw
BEGIN:DAYLIGHT
TZOFFSETFROM:+0100
TZOFFSETTO:+0200
TZNAME:CEST
DTSTART:20260329T010000
END:DAYLIGHT
BEGIN:STANDARD
TZOFFSETFROM:+0200
TZOFFSETTO:+0100
TZNAME:CET
DTSTART:20261025T010000
END:STANDARD
END:VTIMEZONE
BEGIN:VEVENT
DTSTART;TZID=Europe/Warsaw:20260310T093000
DTEND;TZID=Europe/Warsaw:20260310T130000
DTSTAMP:20260422T225946
CREATED:20260309T083935Z
LAST-MODIFIED:20260309T083935Z
UID:3354-1773135000-1773147600@mosgorzow.pl
SUMMARY:IMS - Finał piłki ręcznej dziewcząt
DESCRIPTION:Do finału awansowały cztery zespoły wyłonione z dwóch grup eliminacyjnych: \nSP21\, SP13\, SP2\, oraz SP20. \nZapraszamy na mecze finałowe!!!
URL:https://mosgorzow.pl/event/ims-final-pilki-recznej-dziewczat/
LOCATION:Szkoła Podstawowa nr 20\, ul. Szarych Szeregów 7\, Gorzów Wielkopolski\, Lubuskie\, 66-400
END:VEVENT
END:VCALENDAR