BEGIN:VCALENDAR
VERSION:2.0
PRODID:-//MOS GORZÓW Międzyszkolny Ośrodek Sportowy Gorzów Wielkopolski - ECPv5.10.1//NONSGML v1.0//EN
CALSCALE:GREGORIAN
METHOD:PUBLISH
X-WR-CALNAME:MOS GORZÓW Międzyszkolny Ośrodek Sportowy Gorzów Wielkopolski
X-ORIGINAL-URL:https://mosgorzow.pl
X-WR-CALDESC:Events for MOS GORZÓW Międzyszkolny Ośrodek Sportowy Gorzów Wielkopolski
BEGIN:VTIMEZONE
TZID:Europe/Warsaw
BEGIN:DAYLIGHT
TZOFFSETFROM:+0100
TZOFFSETTO:+0200
TZNAME:CEST
DTSTART:20260329T010000
END:DAYLIGHT
BEGIN:STANDARD
TZOFFSETFROM:+0200
TZOFFSETTO:+0100
TZNAME:CET
DTSTART:20261025T010000
END:STANDARD
END:VTIMEZONE
BEGIN:VEVENT
DTSTART;TZID=Europe/Warsaw:20260520T080000
DTEND;TZID=Europe/Warsaw:20260520T170000
DTSTAMP:20260423T123551
CREATED:20260414T091222Z
LAST-MODIFIED:20260414T091222Z
UID:3406-1779264000-1779296400@mosgorzow.pl
SUMMARY:INDYWIDUALNE ZAWODY LA - IGRZYSKA DZIECI
DESCRIPTION:Zapraszamy na stadion LA uczniów z klas VI i młodszych. \n20 maja 2026 – godz. 10:00 \nKomunikaty organizacyjne wysłano do szkół \n 
URL:https://mosgorzow.pl/event/indywidualne-zawody-la-igrzyska-dzieci-2/
LOCATION:Stadion LA\, ul. Krasińskiego\, Gorzów Wielkopolski\, lubuskie\, 66-400
END:VEVENT
END:VCALENDAR