BEGIN:VCALENDAR
VERSION:2.0
PRODID:-//MOS GORZÓW Międzyszkolny Ośrodek Sportowy Gorzów Wielkopolski - ECPv5.10.1//NONSGML v1.0//EN
CALSCALE:GREGORIAN
METHOD:PUBLISH
X-WR-CALNAME:MOS GORZÓW Międzyszkolny Ośrodek Sportowy Gorzów Wielkopolski
X-ORIGINAL-URL:https://mosgorzow.pl
X-WR-CALDESC:Events for MOS GORZÓW Międzyszkolny Ośrodek Sportowy Gorzów Wielkopolski
BEGIN:VTIMEZONE
TZID:Europe/Warsaw
BEGIN:DAYLIGHT
TZOFFSETFROM:+0100
TZOFFSETTO:+0200
TZNAME:CEST
DTSTART:20260329T010000
END:DAYLIGHT
BEGIN:STANDARD
TZOFFSETFROM:+0200
TZOFFSETTO:+0100
TZNAME:CET
DTSTART:20261025T010000
END:STANDARD
END:VTIMEZONE
BEGIN:VEVENT
DTSTART;TZID=Europe/Warsaw:20260521T100000
DTEND;TZID=Europe/Warsaw:20260521T170000
DTSTAMP:20260423T140420
CREATED:20260414T091345Z
LAST-MODIFIED:20260414T091345Z
UID:3408-1779357600-1779382800@mosgorzow.pl
SUMMARY:INDYWIDUALNE ZAWODY LA - LICEALIADA
DESCRIPTION:Zapraszamy na stadion LA uczniów ze szkół ponadpodstawowych \n21 maja 2026 – godz. 10:00 \nKomunikaty organizacyjne wysłano do szkół \n 
URL:https://mosgorzow.pl/event/indywidualne-zawody-la-licealiada-3/
LOCATION:Stadion LA\, ul. Krasińskiego\, Gorzów Wielkopolski\, lubuskie\, 66-400
END:VEVENT
END:VCALENDAR