BEGIN:VCALENDAR
VERSION:2.0
PRODID:-//MOS GORZÓW Międzyszkolny Ośrodek Sportowy Gorzów Wielkopolski - ECPv5.10.1//NONSGML v1.0//EN
CALSCALE:GREGORIAN
METHOD:PUBLISH
X-WR-CALNAME:MOS GORZÓW Międzyszkolny Ośrodek Sportowy Gorzów Wielkopolski
X-ORIGINAL-URL:https://mosgorzow.pl
X-WR-CALDESC:Events for MOS GORZÓW Międzyszkolny Ośrodek Sportowy Gorzów Wielkopolski
BEGIN:VTIMEZONE
TZID:Europe/Warsaw
BEGIN:DAYLIGHT
TZOFFSETFROM:+0100
TZOFFSETTO:+0200
TZNAME:CEST
DTSTART:20260329T010000
END:DAYLIGHT
BEGIN:STANDARD
TZOFFSETFROM:+0200
TZOFFSETTO:+0100
TZNAME:CET
DTSTART:20261025T010000
END:STANDARD
END:VTIMEZONE
BEGIN:VEVENT
DTSTART;TZID=Europe/Warsaw:20260119T080000
DTEND;TZID=Europe/Warsaw:20260202T170000
DTSTAMP:20260422T093906
CREATED:20260126T092118Z
LAST-MODIFIED:20260126T092118Z
UID:3315-1768809600-1770051600@mosgorzow.pl
SUMMARY:Koszykówka chłopców - LICEALIADA - gr A
DESCRIPTION:Zapraszamy na rozgrywki Gorzowskiej Spartakiady Młodzieży w piłce koszykówce chłopców – szczegóły na stronie internetowej MOS w zakładce „Spartakiada”.
URL:https://mosgorzow.pl/event/koszykowka-chlopcow-licealiada-gr-a/
LOCATION:ZSTiO\, ul. Czereśniowa\, Gorzów Wielkopolski\, LUBUSKIE\, 66-400
END:VEVENT
END:VCALENDAR