BEGIN:VCALENDAR
VERSION:2.0
PRODID:-//MOS GORZÓW Międzyszkolny Ośrodek Sportowy Gorzów Wielkopolski - ECPv5.10.1//NONSGML v1.0//EN
CALSCALE:GREGORIAN
METHOD:PUBLISH
X-WR-CALNAME:MOS GORZÓW Międzyszkolny Ośrodek Sportowy Gorzów Wielkopolski
X-ORIGINAL-URL:https://mosgorzow.pl
X-WR-CALDESC:Events for MOS GORZÓW Międzyszkolny Ośrodek Sportowy Gorzów Wielkopolski
BEGIN:VTIMEZONE
TZID:Europe/Warsaw
BEGIN:DAYLIGHT
TZOFFSETFROM:+0100
TZOFFSETTO:+0200
TZNAME:CEST
DTSTART:20240331T010000
END:DAYLIGHT
BEGIN:STANDARD
TZOFFSETFROM:+0200
TZOFFSETTO:+0100
TZNAME:CET
DTSTART:20241027T010000
END:STANDARD
END:VTIMEZONE
BEGIN:VEVENT
DTSTART;TZID=Europe/Warsaw:20241115T080000
DTEND;TZID=Europe/Warsaw:20241115T170000
DTSTAMP:20260425T142125
CREATED:20241104T132206Z
LAST-MODIFIED:20241104T132206Z
UID:2742-1731657600-1731690000@mosgorzow.pl
SUMMARY:KOSZYKÓWKA DZIEWCZĄT - Igrzyska Dzieci
DESCRIPTION:
URL:https://mosgorzow.pl/event/koszykowka-dziewczat-igrzyska-dzieci-3/
LOCATION:SP13\, Gorzów Wlkp.
END:VEVENT
END:VCALENDAR