BEGIN:VCALENDAR
VERSION:2.0
PRODID:-//MOS GORZÓW Międzyszkolny Ośrodek Sportowy Gorzów Wielkopolski - ECPv5.10.1//NONSGML v1.0//EN
CALSCALE:GREGORIAN
METHOD:PUBLISH
X-WR-CALNAME:MOS GORZÓW Międzyszkolny Ośrodek Sportowy Gorzów Wielkopolski
X-ORIGINAL-URL:https://mosgorzow.pl
X-WR-CALDESC:Events for MOS GORZÓW Międzyszkolny Ośrodek Sportowy Gorzów Wielkopolski
BEGIN:VTIMEZONE
TZID:Europe/Warsaw
BEGIN:DAYLIGHT
TZOFFSETFROM:+0100
TZOFFSETTO:+0200
TZNAME:CEST
DTSTART:20250330T010000
END:DAYLIGHT
BEGIN:STANDARD
TZOFFSETFROM:+0200
TZOFFSETTO:+0100
TZNAME:CET
DTSTART:20251026T010000
END:STANDARD
END:VTIMEZONE
BEGIN:VEVENT
DTSTART;TZID=Europe/Warsaw:20250217T080000
DTEND;TZID=Europe/Warsaw:20250227T170000
DTSTAMP:20260424T092340
CREATED:20250128T080515Z
LAST-MODIFIED:20250128T080515Z
UID:2864-1739779200-1740675600@mosgorzow.pl
SUMMARY:LICEALIADA - Koszykówka chłopców i dziewcząt
DESCRIPTION:LICEALIADA – Koszykówka chłopców i dziewcząt \nMecze chłopców i dziewcząt będa rozgrywane równolegle na zmianę w halach sportowych CEZiB oraz ZSTiO. \nSzczegóły na stronie w poszczególnych zakładkach oraz w komunikatach wysłanych do szkół. \n 
URL:https://mosgorzow.pl/event/licealiada-koszykowka-chlopcow-i-dziewczat/
LOCATION:ZSTiO oraz CEZiB
END:VEVENT
END:VCALENDAR