BEGIN:VCALENDAR
VERSION:2.0
PRODID:-//MOS GORZÓW Międzyszkolny Ośrodek Sportowy Gorzów Wielkopolski - ECPv5.10.1//NONSGML v1.0//EN
CALSCALE:GREGORIAN
METHOD:PUBLISH
X-WR-CALNAME:MOS GORZÓW Międzyszkolny Ośrodek Sportowy Gorzów Wielkopolski
X-ORIGINAL-URL:https://mosgorzow.pl
X-WR-CALDESC:Events for MOS GORZÓW Międzyszkolny Ośrodek Sportowy Gorzów Wielkopolski
BEGIN:VTIMEZONE
TZID:Europe/Warsaw
BEGIN:DAYLIGHT
TZOFFSETFROM:+0100
TZOFFSETTO:+0200
TZNAME:CEST
DTSTART:20250330T010000
END:DAYLIGHT
BEGIN:STANDARD
TZOFFSETFROM:+0200
TZOFFSETTO:+0100
TZNAME:CET
DTSTART:20251026T010000
END:STANDARD
END:VTIMEZONE
BEGIN:VEVENT
DTSTART;TZID=Europe/Warsaw:20250219T080000
DTEND;TZID=Europe/Warsaw:20250219T170000
DTSTAMP:20260424T081739
CREATED:20250128T081824Z
LAST-MODIFIED:20250128T081824Z
UID:2869-1739952000-1739984400@mosgorzow.pl
SUMMARY:LICEALIADA - piłka ręczna dziewcząt
DESCRIPTION:godz. 13.15\nII LO – ZSTiO\n\n\ngodz. 14:15\nZS Ekonomicznych  – I LO
URL:https://mosgorzow.pl/event/licealiada-pilka-reczna-dziewczat-2/
LOCATION:I Liceum Ogólnokształcące\, ul. Puszkina\, Gorzów Wielkopolski\, Lubuskie\, 66-400\, Poland
END:VEVENT
END:VCALENDAR