BEGIN:VCALENDAR
VERSION:2.0
PRODID:-//MOS GORZÓW Międzyszkolny Ośrodek Sportowy Gorzów Wielkopolski - ECPv5.10.1//NONSGML v1.0//EN
CALSCALE:GREGORIAN
METHOD:PUBLISH
X-WR-CALNAME:MOS GORZÓW Międzyszkolny Ośrodek Sportowy Gorzów Wielkopolski
X-ORIGINAL-URL:https://mosgorzow.pl
X-WR-CALDESC:Events for MOS GORZÓW Międzyszkolny Ośrodek Sportowy Gorzów Wielkopolski
BEGIN:VTIMEZONE
TZID:Europe/Warsaw
BEGIN:DAYLIGHT
TZOFFSETFROM:+0100
TZOFFSETTO:+0200
TZNAME:CEST
DTSTART:20250330T010000
END:DAYLIGHT
BEGIN:STANDARD
TZOFFSETFROM:+0200
TZOFFSETTO:+0100
TZNAME:CET
DTSTART:20251026T010000
END:STANDARD
END:VTIMEZONE
BEGIN:VEVENT
DTSTART;TZID=Europe/Warsaw:20250224T080000
DTEND;TZID=Europe/Warsaw:20250224T170000
DTSTAMP:20260424T055207
CREATED:20250128T081942Z
LAST-MODIFIED:20250128T081942Z
UID:2871-1740384000-1740416400@mosgorzow.pl
SUMMARY:LICEALIADA - piłka ręczna dziewcząt
DESCRIPTION:godz. 13.15\nZSTiO – ZS Ekonomicznych\n\n\ngodz. 14:15\nII LO – I LO
URL:https://mosgorzow.pl/event/licealiada-pilka-reczna-dziewczat-3/
LOCATION:I Liceum Ogólnokształcące\, ul. Puszkina\, Gorzów Wielkopolski\, Lubuskie\, 66-400\, Poland
END:VEVENT
END:VCALENDAR