BEGIN:VCALENDAR
VERSION:2.0
PRODID:-//MOS GORZÓW Międzyszkolny Ośrodek Sportowy Gorzów Wielkopolski - ECPv5.10.1//NONSGML v1.0//EN
CALSCALE:GREGORIAN
METHOD:PUBLISH
X-WR-CALNAME:MOS GORZÓW Międzyszkolny Ośrodek Sportowy Gorzów Wielkopolski
X-ORIGINAL-URL:https://mosgorzow.pl
X-WR-CALDESC:Events for MOS GORZÓW Międzyszkolny Ośrodek Sportowy Gorzów Wielkopolski
BEGIN:VTIMEZONE
TZID:Europe/Warsaw
BEGIN:DAYLIGHT
TZOFFSETFROM:+0100
TZOFFSETTO:+0200
TZNAME:CEST
DTSTART:20250330T010000
END:DAYLIGHT
BEGIN:STANDARD
TZOFFSETFROM:+0200
TZOFFSETTO:+0100
TZNAME:CET
DTSTART:20251026T010000
END:STANDARD
END:VTIMEZONE
BEGIN:VEVENT
DTSTART;TZID=Europe/Warsaw:20250226T120000
DTEND;TZID=Europe/Warsaw:20250311T170000
DTSTAMP:20260423T215915
CREATED:20250204T115757Z
LAST-MODIFIED:20250204T115757Z
UID:2897-1740571200-1741712400@mosgorzow.pl
SUMMARY:LICEALIADA - siatkówka chłopców - grupa A
DESCRIPTION:Komunikat organizacyjny \n\n\n\nGRUPA   A\n\n\n\n\nZS Elektrycznych\nII LO\nZS Ekonomicznych\nZSTiO\nVIII LO\n\n\n\n\nHarmonogram rozgrywek w grupie A oraz B  zamieszczono w zakładce Licealiada – siatkówka chłopców. Komunikaty organizacyjne wraz z harmonogramem wysłano do szkół.
URL:https://mosgorzow.pl/event/licealiada-siatkowka-chlopcow-grupa-a/
LOCATION:II LO\, ul. Przemysłowa\, Gorzów Wielkopolski
END:VEVENT
END:VCALENDAR