BEGIN:VCALENDAR
VERSION:2.0
PRODID:-//MOS GORZÓW Międzyszkolny Ośrodek Sportowy Gorzów Wielkopolski - ECPv5.10.1//NONSGML v1.0//EN
CALSCALE:GREGORIAN
METHOD:PUBLISH
X-WR-CALNAME:MOS GORZÓW Międzyszkolny Ośrodek Sportowy Gorzów Wielkopolski
X-ORIGINAL-URL:https://mosgorzow.pl
X-WR-CALDESC:Events for MOS GORZÓW Międzyszkolny Ośrodek Sportowy Gorzów Wielkopolski
BEGIN:VTIMEZONE
TZID:Europe/Warsaw
BEGIN:DAYLIGHT
TZOFFSETFROM:+0100
TZOFFSETTO:+0200
TZNAME:CEST
DTSTART:20250330T010000
END:DAYLIGHT
BEGIN:STANDARD
TZOFFSETFROM:+0200
TZOFFSETTO:+0100
TZNAME:CET
DTSTART:20251026T010000
END:STANDARD
END:VTIMEZONE
BEGIN:VEVENT
DTSTART;TZID=Europe/Warsaw:20250227T130000
DTEND;TZID=Europe/Warsaw:20250312T170000
DTSTAMP:20260423T190722
CREATED:20250204T120146Z
LAST-MODIFIED:20250204T120146Z
UID:2899-1740661200-1741798800@mosgorzow.pl
SUMMARY:LICEALIADA - siatkówka chłopców - grupa B
DESCRIPTION:LICEALIADA – siatkówka chłopców – grupa B \n\n\n\nGRUPA    B\n\n\n\n\nI LO\nCEZiB\nZS Gastronomicznych\nIII LO\n\n\n\n\n\n  \nHarmonogram rozgrywek w grupie A oraz B  zamieszczono w zakładce Licealiada – siatkówka chłopców. Komunikaty organizacyjne wraz z harmonogramem wysłano do szkół.
URL:https://mosgorzow.pl/event/licealiada-siatkowka-chlopcow-grupa-b/
LOCATION:I Liceum Ogólnokształcące\, ul. Puszkina\, Gorzów Wielkopolski\, Lubuskie\, 66-400\, Poland
END:VEVENT
END:VCALENDAR