BEGIN:VCALENDAR
VERSION:2.0
PRODID:-//MOS GORZÓW Międzyszkolny Ośrodek Sportowy Gorzów Wielkopolski - ECPv5.10.1//NONSGML v1.0//EN
CALSCALE:GREGORIAN
METHOD:PUBLISH
X-WR-CALNAME:MOS GORZÓW Międzyszkolny Ośrodek Sportowy Gorzów Wielkopolski
X-ORIGINAL-URL:https://mosgorzow.pl
X-WR-CALDESC:Events for MOS GORZÓW Międzyszkolny Ośrodek Sportowy Gorzów Wielkopolski
BEGIN:VTIMEZONE
TZID:Europe/Warsaw
BEGIN:DAYLIGHT
TZOFFSETFROM:+0100
TZOFFSETTO:+0200
TZNAME:CEST
DTSTART:20260329T010000
END:DAYLIGHT
BEGIN:STANDARD
TZOFFSETFROM:+0200
TZOFFSETTO:+0100
TZNAME:CET
DTSTART:20261025T010000
END:STANDARD
END:VTIMEZONE
BEGIN:VEVENT
DTSTART;TZID=Europe/Warsaw:20260423T090000
DTEND;TZID=Europe/Warsaw:20260423T170000
DTSTAMP:20260423T081125
CREATED:20260414T084849Z
LAST-MODIFIED:20260414T084849Z
UID:3398-1776934800-1776963600@mosgorzow.pl
SUMMARY:MINISIATKÓWKA CHŁOPCÓW„2”
DESCRIPTION:Komunikat organizacyjny Gorzowskiej Spartakiady Młodzieży\nMINISIATKÓWKA CHŁOPCÓW„2” \nMiejsce rozgrywek: HS SP-16\nOdp. Kol. P. Brzozowska\nUdział biorą: \n\n\n\nGrupa A\nGrupa B\n\n\nSP 17\nSP 1\n\n\nSP 16\nSP 5\n\n\nSP 21\nSP 4\n\n\nSP 15\nSSPSE\n\n\n\nI Społ. SP\n\n\n\nTermin:\n23.04.2026 r. (czwartek) godz. 9:00
URL:https://mosgorzow.pl/event/minisiatkowka-chlopcow2/
LOCATION:ZSO 16\, Ul. Dunikowskiego 5\, Gorzów wielkopolski\, Poland
END:VEVENT
END:VCALENDAR