BEGIN:VCALENDAR
VERSION:2.0
PRODID:-//MOS GORZÓW Międzyszkolny Ośrodek Sportowy Gorzów Wielkopolski - ECPv5.10.1//NONSGML v1.0//EN
CALSCALE:GREGORIAN
METHOD:PUBLISH
X-WR-CALNAME:MOS GORZÓW Międzyszkolny Ośrodek Sportowy Gorzów Wielkopolski
X-ORIGINAL-URL:https://mosgorzow.pl
X-WR-CALDESC:Events for MOS GORZÓW Międzyszkolny Ośrodek Sportowy Gorzów Wielkopolski
BEGIN:VTIMEZONE
TZID:Europe/Warsaw
BEGIN:DAYLIGHT
TZOFFSETFROM:+0100
TZOFFSETTO:+0200
TZNAME:CEST
DTSTART:20260329T010000
END:DAYLIGHT
BEGIN:STANDARD
TZOFFSETFROM:+0200
TZOFFSETTO:+0100
TZNAME:CET
DTSTART:20261025T010000
END:STANDARD
END:VTIMEZONE
BEGIN:VEVENT
DTSTART;TZID=Europe/Warsaw:20260421T100000
DTEND;TZID=Europe/Warsaw:20260421T150000
DTSTAMP:20260423T065329
CREATED:20260414T084716Z
LAST-MODIFIED:20260414T084716Z
UID:3396-1776765600-1776783600@mosgorzow.pl
SUMMARY:MINISIATKÓWKA dziewcząt "2"
DESCRIPTION:Komunikat organizacyjny Gorzowskiej Spartakiady Młodzieży\nMINISIATKÓWKA DZIEWCZĄT „2” \nMiejsce rozgrywek: HS SP-16\nOdp. Kol. P. Brzozowska \nUdział biorą: \n1. SP5\n2. SP17\n3. SP20\n4. SP 1\n5. SP 16\n6. SP 4 \nTermin:\n21.04.2026 r. (wtorek)\ngodz. 10:00
URL:https://mosgorzow.pl/event/minisiatkowka-dziewczat-2/
LOCATION:ZSO 16\, Ul. Dunikowskiego 5\, Gorzów wielkopolski\, Poland
END:VEVENT
END:VCALENDAR