BEGIN:VCALENDAR
VERSION:2.0
PRODID:-//MOS GORZÓW Międzyszkolny Ośrodek Sportowy Gorzów Wielkopolski - ECPv5.10.1//NONSGML v1.0//EN
CALSCALE:GREGORIAN
METHOD:PUBLISH
X-WR-CALNAME:MOS GORZÓW Międzyszkolny Ośrodek Sportowy Gorzów Wielkopolski
X-ORIGINAL-URL:https://mosgorzow.pl
X-WR-CALDESC:Events for MOS GORZÓW Międzyszkolny Ośrodek Sportowy Gorzów Wielkopolski
BEGIN:VTIMEZONE
TZID:Europe/Warsaw
BEGIN:DAYLIGHT
TZOFFSETFROM:+0100
TZOFFSETTO:+0200
TZNAME:CEST
DTSTART:20260329T010000
END:DAYLIGHT
BEGIN:STANDARD
TZOFFSETFROM:+0200
TZOFFSETTO:+0100
TZNAME:CET
DTSTART:20261025T010000
END:STANDARD
END:VTIMEZONE
BEGIN:VEVENT
DTSTART;TZID=Europe/Warsaw:20260313T100000
DTEND;TZID=Europe/Warsaw:20260313T150000
DTSTAMP:20260423T015652
CREATED:20260309T083249Z
LAST-MODIFIED:20260309T083457Z
UID:3348-1773396000-1773414000@mosgorzow.pl
SUMMARY:NINISIATKÓWKA  \,\,4" CHŁOPCÓW
DESCRIPTION:Komunikat organizacyjny\nGorzowskiej Spartakiady Młodzieży\nMINISIATKÓWKA CHŁOPCÓW „4” \n  \nMiejsce rozgrywek: HS SP-16\nul. Dunikowskiego\nOdp. Kol. P. Brzozowska \n\n\n\nGrupa A\nGrupa B\n\n\n1.SP17\n1.SP5\n\n\n2.SP21\n2.SP20\n\n\n3.SP16\n3.SP15\n\n\n4.SSPSE\n4.SP2\n\n\n\n  \nTerminy: 13.03.2026 r. (piątek) godz. 10:00\nSystem gier „każdy z każdym” wg tabeli Bergera \nDo finału awansują dwa pierwsze zespoły z grup A i B.\nMecze finałowe odbędą się bezpośrednio po eliminacjach. \nRegulamin gry:\n-w skład zespołu wchodzi 10 zawodników\,\n-wymiary boiska 14m x 7m\,\n-wysokość siatki: 224cm\,\n-obowiązuje duża piłka\, -rozsądna tolerancja czystości odbić. \n− gra się do dwóch wygranych setów. Sety rozgrywane są do 25 punktów. Ewentualny 3 set\ndecydujący rozgrywany jest do 15 punktów\,\n− w pierwszym secie gra 4 zawodników + 1 rezerwowy\,\n− w drugim secie pozostałych 5 zawodników\,\n− w trzecim secie\, rozgrywanym w przypadku remisu w setach\, gra dowolna czwórka\,\nwyznaczona z dziesiątki\,\n− skład CZWÓREK ustalony przed zawodami nie może być zmieniony przez cały turniej\,\n− każdy zespół może wykorzystać 2 czasy po 30 sekund w każdym secie\,\n− obowiązuje rotacyjna kolejność wykonywania zagrywki\,\n− zawodnik zagrywający nie wykonuje akcji w bloku i ataku z piłką powyżej górnej taśmy\nw każdym miejscu na boisku\,\n− rozsądna tolerancja czystości odbić\,\n− w każdym secie dozwolona jest tylko jedna podwójna zmiana tzn. można wymienić jednego\nz zawodników\, który może wrócić w trakcie seta na swoje miejsce (druga zmiana dokonana)\,\n− w momencie uderzenia piłki przez zagrywającego\, każdy zespół musi znajdować się na\nwłasnej stronie boiska\, ustawiony zgodnie z porządkiem rotacji (z wyjątkiem zawodnika\nzagrywającego)\nOrganizator zastrzega sobie prawo do ostatecznej interpretacji niniejszego\nregulaminu. \nUWAGA!! Do udziału w rozgrywkach siatkówki chłopców uprawnia formularz zgłoszeniowy\nwygenerowany z systemu SRS. Każdy uczestnik rozgrywek musi posiadać ważną legitymację\nszkolną.
URL:https://mosgorzow.pl/event/ninisiatkowka-4-chlopcow/
LOCATION:ZSO 16\, Ul. Dunikowskiego 5\, Gorzów wielkopolski\, Poland
END:VEVENT
END:VCALENDAR