BEGIN:VCALENDAR
VERSION:2.0
PRODID:-//MOS GORZÓW Międzyszkolny Ośrodek Sportowy Gorzów Wielkopolski - ECPv5.10.1//NONSGML v1.0//EN
CALSCALE:GREGORIAN
METHOD:PUBLISH
X-WR-CALNAME:MOS GORZÓW Międzyszkolny Ośrodek Sportowy Gorzów Wielkopolski
X-ORIGINAL-URL:https://mosgorzow.pl
X-WR-CALDESC:Events for MOS GORZÓW Międzyszkolny Ośrodek Sportowy Gorzów Wielkopolski
BEGIN:VTIMEZONE
TZID:Europe/Warsaw
BEGIN:DAYLIGHT
TZOFFSETFROM:+0100
TZOFFSETTO:+0200
TZNAME:CEST
DTSTART:20250330T010000
END:DAYLIGHT
BEGIN:STANDARD
TZOFFSETFROM:+0200
TZOFFSETTO:+0100
TZNAME:CET
DTSTART:20251026T010000
END:STANDARD
END:VTIMEZONE
BEGIN:VEVENT
DTSTART;TZID=Europe/Warsaw:20251001T100000
DTEND;TZID=Europe/Warsaw:20251001T170000
DTSTAMP:20260421T233158
CREATED:20250929T105435Z
LAST-MODIFIED:20250929T105435Z
UID:3138-1759312800-1759338000@mosgorzow.pl
SUMMARY:PIŁKA NOŻNA DZIEWCZĄT- LICEALIADA
DESCRIPTION:
URL:https://mosgorzow.pl/event/pilka-nozna-dziewczat-licealiada-4/
LOCATION:ZSTiO\, ul. Czereśniowa\, Gorzów Wielkopolski\, LUBUSKIE\, 66-400
END:VEVENT
END:VCALENDAR