BEGIN:VCALENDAR
VERSION:2.0
PRODID:-//MOS GORZÓW Międzyszkolny Ośrodek Sportowy Gorzów Wielkopolski - ECPv5.10.1//NONSGML v1.0//EN
CALSCALE:GREGORIAN
METHOD:PUBLISH
X-WR-CALNAME:MOS GORZÓW Międzyszkolny Ośrodek Sportowy Gorzów Wielkopolski
X-ORIGINAL-URL:https://mosgorzow.pl
X-WR-CALDESC:Events for MOS GORZÓW Międzyszkolny Ośrodek Sportowy Gorzów Wielkopolski
BEGIN:VTIMEZONE
TZID:Europe/Warsaw
BEGIN:DAYLIGHT
TZOFFSETFROM:+0100
TZOFFSETTO:+0200
TZNAME:CEST
DTSTART:20260329T010000
END:DAYLIGHT
BEGIN:STANDARD
TZOFFSETFROM:+0200
TZOFFSETTO:+0100
TZNAME:CET
DTSTART:20261025T010000
END:STANDARD
END:VTIMEZONE
BEGIN:VEVENT
DTSTART;TZID=Europe/Warsaw:20260312T090000
DTEND;TZID=Europe/Warsaw:20260312T170000
DTSTAMP:20260423T002926
CREATED:20260309T083649Z
LAST-MODIFIED:20260309T083649Z
UID:3352-1773306000-1773334800@mosgorzow.pl
SUMMARY:PIŁKA RĘCZNA CHŁOPCÓW - IMS
DESCRIPTION:Komunikat organizacyjny\nGorzowskiej Spartakiady Młodzieży\nPIŁKA RĘCZNA CHŁOPCÓW\nIgrzyska Dzieci 2025/2026 \nHS SP-20 ul. Szarych Szeregów \nOdp. Kol. C. Marciniak i M. Gałat \n\n\n\nGrupa A: 12.03.2026 r. godz. 9:00\nGrupa B 12.03.2026 r. godz. 10:30\n\n\n1.SP-20\n1.SSPSE\n\n\n2.SP-21\n2.SP-2\n\n\n3.SP-9\n3.SP-4\n\n\n\n\n\n\n\n  \nDo finału awansują dwa najlepsze zespoły z grup.\nMecze finałowe odbędą się bezpośrednio po eliminacjach. \nRegulamin gry:\n-mecz nie może być rozgrywany bez opiekuna zespołu\n-zespół liczy do 16 zawodników\n-czas gry: 2 x 10 min + 2 min przerwy (do ustalenia przez opiekunów)\n-czas wykluczenia zawodnika 1min.\n– więcej informacji dotyczących przepisów: Kalendarz szkolnych imprez sportowych LOM\n2025/2026 (szs-lubuskie.pl w zakładce kalendarz LOM 2025/2026). \nPunktacja:\n3 pkt. – za zwycięstwo w regulaminowym czasie gry\, 2 pkt. – za zwycięstwo po rzutach karnych\,\n1 pkt. – za porażkę po rzutach karnych\, 0 pkt. – za porażkę w regulaminowym czasie gry. \nO kolejności zespołów decydują kolejno:\n1. Większa liczba zdobytych punktów\n2. Jeżeli dwie lub więcej drużyn uzyska tę samą liczbę punktów:\na) większa liczba punktów zdobytych w zawodach pomiędzy zainteresowanymi\nzespołami (bezpośredni mecz/-e)\nb) korzystniejsza różnica bramek z zawodów pomiędzy zainteresowanymi zespołami\,\nc) większa liczba zdobytych bramek z zawodów pomiędzy zainteresowanymi zespołami\,\nd) korzystniejsza różnica bramek w całym turnieju\,\ne) większa liczba zdobytych bramek w całym turnieju. \nUWAGA!!! Do udziału w rozgrywkach piłki ręcznej chłopców uprawnia formularz\nwygenerowany z systemu SRS. Każdy uczestnik rozgrywek musi posiadać ważną legitymację szkolną.\nOrganizator zastrzega sobie prawo do ostatecznej interpretacji niniejszego regulaminu.\nW zawodach obowiązują przepisy minipiłki ręcznej zawarte w kalendarzu szkolnych imprez sportowych\nLubuskiej Olimpiady Młodzieży. \nZe sportowym pozdrowieniem
URL:https://mosgorzow.pl/event/pilka-reczna-chlopcow-ims/
LOCATION:Szkoła Podstawowa nr 20\, ul. Szarych Szeregów 7\, Gorzów Wielkopolski\, Lubuskie\, 66-400
END:VEVENT
END:VCALENDAR