BEGIN:VCALENDAR
VERSION:2.0
PRODID:-//MOS GORZÓW Międzyszkolny Ośrodek Sportowy Gorzów Wielkopolski - ECPv5.10.1//NONSGML v1.0//EN
CALSCALE:GREGORIAN
METHOD:PUBLISH
X-WR-CALNAME:MOS GORZÓW Międzyszkolny Ośrodek Sportowy Gorzów Wielkopolski
X-ORIGINAL-URL:https://mosgorzow.pl
X-WR-CALDESC:Events for MOS GORZÓW Międzyszkolny Ośrodek Sportowy Gorzów Wielkopolski
BEGIN:VTIMEZONE
TZID:Europe/Warsaw
BEGIN:DAYLIGHT
TZOFFSETFROM:+0100
TZOFFSETTO:+0200
TZNAME:CEST
DTSTART:20260329T010000
END:DAYLIGHT
BEGIN:STANDARD
TZOFFSETFROM:+0200
TZOFFSETTO:+0100
TZNAME:CET
DTSTART:20261025T010000
END:STANDARD
END:VTIMEZONE
BEGIN:VEVENT
DTSTART;TZID=Europe/Warsaw:20260202T080000
DTEND;TZID=Europe/Warsaw:20260204T170000
DTSTAMP:20260422T194452
CREATED:20260126T090346Z
LAST-MODIFIED:20260126T090346Z
UID:3307-1770019200-1770224400@mosgorzow.pl
SUMMARY:Siatkówka chłopców - IMS gr A
DESCRIPTION:Zapraszamy na rozgrywki Gorzowskiej Spartakiady Młodzieży w siatkówce chłopców – szczegóły na stronie internetowej MOS w zakładce „Spartakiada”.
URL:https://mosgorzow.pl/event/siatkowka-chlopcow-ims-gr-a/
LOCATION:ZSO 16\, Ul. Dunikowskiego 5\, Gorzów wielkopolski\, Poland
END:VEVENT
END:VCALENDAR