BEGIN:VCALENDAR
VERSION:2.0
PRODID:-//MOS GORZÓW Międzyszkolny Ośrodek Sportowy Gorzów Wielkopolski - ECPv5.10.1//NONSGML v1.0//EN
CALSCALE:GREGORIAN
METHOD:PUBLISH
X-WR-CALNAME:MOS GORZÓW Międzyszkolny Ośrodek Sportowy Gorzów Wielkopolski
X-ORIGINAL-URL:https://mosgorzow.pl
X-WR-CALDESC:Events for MOS GORZÓW Międzyszkolny Ośrodek Sportowy Gorzów Wielkopolski
BEGIN:VTIMEZONE
TZID:Europe/Warsaw
BEGIN:DAYLIGHT
TZOFFSETFROM:+0100
TZOFFSETTO:+0200
TZNAME:CEST
DTSTART:20240331T010000
END:DAYLIGHT
BEGIN:STANDARD
TZOFFSETFROM:+0200
TZOFFSETTO:+0100
TZNAME:CET
DTSTART:20241027T010000
END:STANDARD
END:VTIMEZONE
BEGIN:VEVENT
DTSTART;TZID=Europe/Warsaw:20241129T120000
DTEND;TZID=Europe/Warsaw:20241129T170000
DTSTAMP:20260424T221124
CREATED:20241115T113706Z
LAST-MODIFIED:20241115T113706Z
UID:2790-1732881600-1732899600@mosgorzow.pl
SUMMARY:SIATKÓWKA DZIEWCZĄT gr A - Licealiada
DESCRIPTION:12.00 IV LO – ZS Gastronomicznych \n13.00 ZS Ekonomicznych – II LO
URL:https://mosgorzow.pl/event/siatkowka-dziewczat-gr-a-licealiada-2/
LOCATION:II LO\, ul. Przemysłowa\, Gorzów Wielkopolski
END:VEVENT
END:VCALENDAR