BEGIN:VCALENDAR
VERSION:2.0
PRODID:-//MOS GORZÓW Międzyszkolny Ośrodek Sportowy Gorzów Wielkopolski - ECPv5.10.1//NONSGML v1.0//EN
CALSCALE:GREGORIAN
METHOD:PUBLISH
X-WR-CALNAME:MOS GORZÓW Międzyszkolny Ośrodek Sportowy Gorzów Wielkopolski
X-ORIGINAL-URL:https://mosgorzow.pl
X-WR-CALDESC:Events for MOS GORZÓW Międzyszkolny Ośrodek Sportowy Gorzów Wielkopolski
BEGIN:VTIMEZONE
TZID:Europe/Warsaw
BEGIN:DAYLIGHT
TZOFFSETFROM:+0100
TZOFFSETTO:+0200
TZNAME:CEST
DTSTART:20240331T010000
END:DAYLIGHT
BEGIN:STANDARD
TZOFFSETFROM:+0200
TZOFFSETTO:+0100
TZNAME:CET
DTSTART:20241027T010000
END:STANDARD
END:VTIMEZONE
BEGIN:VEVENT
DTSTART;TZID=Europe/Warsaw:20241120T080000
DTEND;TZID=Europe/Warsaw:20241120T170000
DTSTAMP:20260425T124631
CREATED:20241115T113316Z
LAST-MODIFIED:20241115T113316Z
UID:2783-1732089600-1732122000@mosgorzow.pl
SUMMARY:SIATKÓWKA DZIEWCZĄT gr B - Licealiada
DESCRIPTION:12:15 I LO – CEZiB \n13.30 ZSTiO – III LO
URL:https://mosgorzow.pl/event/siatkowka-dziewczat-gr-b-licealiada/
LOCATION:I Liceum Ogólnokształcące\, ul. Puszkina\, Gorzów Wielkopolski\, Lubuskie\, 66-400\, Poland
END:VEVENT
END:VCALENDAR