BEGIN:VCALENDAR
VERSION:2.0
PRODID:-//MOS GORZÓW Międzyszkolny Ośrodek Sportowy Gorzów Wielkopolski - ECPv5.10.1//NONSGML v1.0//EN
CALSCALE:GREGORIAN
METHOD:PUBLISH
X-WR-CALNAME:MOS GORZÓW Międzyszkolny Ośrodek Sportowy Gorzów Wielkopolski
X-ORIGINAL-URL:https://mosgorzow.pl
X-WR-CALDESC:Events for MOS GORZÓW Międzyszkolny Ośrodek Sportowy Gorzów Wielkopolski
BEGIN:VTIMEZONE
TZID:Europe/Warsaw
BEGIN:DAYLIGHT
TZOFFSETFROM:+0100
TZOFFSETTO:+0200
TZNAME:CEST
DTSTART:20240331T010000
END:DAYLIGHT
BEGIN:STANDARD
TZOFFSETFROM:+0200
TZOFFSETTO:+0100
TZNAME:CET
DTSTART:20241027T010000
END:STANDARD
END:VTIMEZONE
BEGIN:VEVENT
DTSTART;TZID=Europe/Warsaw:20241119T120000
DTEND;TZID=Europe/Warsaw:20241119T170000
DTSTAMP:20260425T142315
CREATED:20241115T112950Z
LAST-MODIFIED:20241115T113932Z
UID:2779-1732017600-1732035600@mosgorzow.pl
SUMMARY:SIATKÓWKA DZIEWCZĄT gr A - Licealiada
DESCRIPTION:12:00  ZS Ekonomicznych – ZS Gastronomicznych \n13.oo II LO – IV LO
URL:https://mosgorzow.pl/event/siatkowka-dziewczat-licealiada/
LOCATION:II LO\, ul. Przemysłowa\, Gorzów Wielkopolski
END:VEVENT
END:VCALENDAR