BEGIN:VCALENDAR
VERSION:2.0
PRODID:-//MOS GORZÓW Międzyszkolny Ośrodek Sportowy Gorzów Wielkopolski - ECPv5.10.1//NONSGML v1.0//EN
CALSCALE:GREGORIAN
METHOD:PUBLISH
X-WR-CALNAME:MOS GORZÓW Międzyszkolny Ośrodek Sportowy Gorzów Wielkopolski
X-ORIGINAL-URL:https://mosgorzow.pl
X-WR-CALDESC:Events for MOS GORZÓW Międzyszkolny Ośrodek Sportowy Gorzów Wielkopolski
BEGIN:VTIMEZONE
TZID:Europe/Warsaw
BEGIN:DAYLIGHT
TZOFFSETFROM:+0100
TZOFFSETTO:+0200
TZNAME:CEST
DTSTART:20250330T010000
END:DAYLIGHT
BEGIN:STANDARD
TZOFFSETFROM:+0200
TZOFFSETTO:+0100
TZNAME:CET
DTSTART:20251026T010000
END:STANDARD
END:VTIMEZONE
BEGIN:VEVENT
DTSTART;TZID=Europe/Warsaw:20250326T080000
DTEND;TZID=Europe/Warsaw:20250326T120000
DTSTAMP:20260421T102037
CREATED:20250314T113434Z
LAST-MODIFIED:20250314T113434Z
UID:2954-1742976000-1742990400@mosgorzow.pl
SUMMARY:Strzelectwo sportowe - LICEALIADA
DESCRIPTION:Strzelnica LOK \nul. Kosynierów Gdyńskich 15 \n66-400 Gorzów Wielkopolski
URL:https://mosgorzow.pl/event/strzelectwo-sportowe-licealiada/
LOCATION:Strzelnica LOK\, ul. Kosynierów Gdyńskich 15\, Gorzów Wielkopolski\, Poland
END:VEVENT
END:VCALENDAR