BEGIN:VCALENDAR
VERSION:2.0
PRODID:-//MOS GORZÓW Międzyszkolny Ośrodek Sportowy Gorzów Wielkopolski - ECPv5.10.1//NONSGML v1.0//EN
CALSCALE:GREGORIAN
METHOD:PUBLISH
X-WR-CALNAME:MOS GORZÓW Międzyszkolny Ośrodek Sportowy Gorzów Wielkopolski
X-ORIGINAL-URL:https://mosgorzow.pl
X-WR-CALDESC:Events for MOS GORZÓW Międzyszkolny Ośrodek Sportowy Gorzów Wielkopolski
BEGIN:VTIMEZONE
TZID:Europe/Warsaw
BEGIN:DAYLIGHT
TZOFFSETFROM:+0100
TZOFFSETTO:+0200
TZNAME:CEST
DTSTART:20250330T010000
END:DAYLIGHT
BEGIN:STANDARD
TZOFFSETFROM:+0200
TZOFFSETTO:+0100
TZNAME:CET
DTSTART:20251026T010000
END:STANDARD
END:VTIMEZONE
BEGIN:VEVENT
DTSTART;TZID=Europe/Warsaw:20251007T100000
DTEND;TZID=Europe/Warsaw:20251007T170000
DTSTAMP:20260422T035908
CREATED:20250929T103830Z
LAST-MODIFIED:20250929T104212Z
UID:3128-1759831200-1759856400@mosgorzow.pl
SUMMARY:SZACHY – IGRZYSKA MŁODZIEZY SZKOLNEJ
DESCRIPTION:
URL:https://mosgorzow.pl/event/szachy-igrzyska-mlodziezy-szkolnej-2/
LOCATION:Klub Szachowy STILON\, Chrobrego 28\, Gorzów Wielkopolski\, LUBUSKIE\, 66 - 400\, Poland
END:VEVENT
END:VCALENDAR