BEGIN:VCALENDAR
VERSION:2.0
PRODID:-//MOS GORZÓW Międzyszkolny Ośrodek Sportowy Gorzów Wielkopolski - ECPv5.10.1//NONSGML v1.0//EN
CALSCALE:GREGORIAN
METHOD:PUBLISH
X-WR-CALNAME:MOS GORZÓW Międzyszkolny Ośrodek Sportowy Gorzów Wielkopolski
X-ORIGINAL-URL:https://mosgorzow.pl
X-WR-CALDESC:Events for MOS GORZÓW Międzyszkolny Ośrodek Sportowy Gorzów Wielkopolski
BEGIN:VTIMEZONE
TZID:Europe/Warsaw
BEGIN:DAYLIGHT
TZOFFSETFROM:+0100
TZOFFSETTO:+0200
TZNAME:CEST
DTSTART:20260329T010000
END:DAYLIGHT
BEGIN:STANDARD
TZOFFSETFROM:+0200
TZOFFSETTO:+0100
TZNAME:CET
DTSTART:20261025T010000
END:STANDARD
END:VTIMEZONE
BEGIN:VEVENT
DTSTART;TZID=Europe/Warsaw:20260505T093000
DTEND;TZID=Europe/Warsaw:20260505T170000
DTSTAMP:20260423T094144
CREATED:20260414T090456Z
LAST-MODIFIED:20260414T090620Z
UID:3402-1777973400-1778000400@mosgorzow.pl
SUMMARY:TRÓJBÓJ i CZWÓRBÓJ LA
DESCRIPTION:Komunikat organizacyjny Gorzowskiej Spartakiady Młodzieży 2025/2026 \nIGRZYSKA DZIECI  \n CZWÓRBÓJ I TRÓJBÓJ  LEKKOATLETYCZNY DZIEWCZĄT I CHŁOPCÓW\n\n\n1. Organizator:\nMiędzyszkolny Ośrodek Sportowy\n\n\n2. Termin:\n         7.05.2026 r. (czwartek)   \n  9:30  Czwórbój dziewcząt i chłopców \n12:00   Trójbój dziewcząt i chłopców   \n\n\n3. Miejsce:\nStadion Lekkoatletyczny \nul. Krasińskiego \n66-400 Gorzów Wielkopolski\n\n\n4. Uczestnictwo:\nw zawodach startują reprezentacje szkół podstawowych oddzielnie dziewcząt i chłopców. W czwórboju reprezentacja składa się\nz 6 uczniów/uczennic urodzonych w 2013 i młodsi natomiast trójboju rocznik 2015.\n\n\n5. Program zawodów:\nProgram zawodów: \nTrójbój: bieg 60 m\, rzut piłką palantową (do 150 g)\,  skok w dal ze strefy lub wzwyż. \nCzwórbój:  bieg 60 m\, rzut piłką palantową (do 150 g)\,  skok  w dal ze strefy lub wzwyż\, bieg: dla dziewcząt 600 m\, dla chłopców 1000 m. \nKolejność rozgrywania konkurencji jest dowolna z tym\, że bieg długi musi być rozgrywany jako ostatnia konkurencja.\n\n\nPunktacja: \nWyniki przelicza się na punkty według tabel wielobojowych (dostępne na stronie SZS Ziemia lubuska)\, \n− suma osiągniętych punktów za tryz/cztery konkurencje daje ostateczny rezultat każdego zawodnika\,\n− na wynik drużyny składają się końcowe rezultaty 5 najlepszych zawodników (z 6 startujących)\,\n− wynik danego zawodnika /czki/ jest wliczany do punktacji szkoły pod warunkiem udziału zawodnika\nwe wszystkich  konkurencjach/ start w danej konkurencji! / \n− w przypadku równej liczby punktów uzyskanych przez dwie lub więcej szkół przyznaje się miejsca dzielone\, \n−  przy jednakowej liczbie punktów uzyskanych przez szkoły zajmujące miejsca od I do III o wyższej lokacie decyduje wynik najlepszego zawodnika. \n \n\n\n6. Nagrody:\nI-III miejsca puchary\, medale i dyplomy dla szkoły i najlepszych zawodniczek/zawodników\n\n\n7. Sędzia główny:\nAgnieszka Woźniak \nIzabela Zaleska-Posmyk
URL:https://mosgorzow.pl/event/trojboj-i-czworboj-la/
LOCATION:Stadion LA\, ul. Krasińskiego\, Gorzów Wielkopolski\, lubuskie\, 66-400
END:VEVENT
END:VCALENDAR