BEGIN:VCALENDAR
VERSION:2.0
PRODID:-//MOS GORZÓW Międzyszkolny Ośrodek Sportowy Gorzów Wielkopolski - ECPv5.10.1//NONSGML v1.0//EN
CALSCALE:GREGORIAN
METHOD:PUBLISH
X-WR-CALNAME:MOS GORZÓW Międzyszkolny Ośrodek Sportowy Gorzów Wielkopolski
X-ORIGINAL-URL:https://mosgorzow.pl
X-WR-CALDESC:Events for MOS GORZÓW Międzyszkolny Ośrodek Sportowy Gorzów Wielkopolski
BEGIN:VTIMEZONE
TZID:Europe/Warsaw
BEGIN:DAYLIGHT
TZOFFSETFROM:+0100
TZOFFSETTO:+0200
TZNAME:CEST
DTSTART:20250330T010000
END:DAYLIGHT
BEGIN:STANDARD
TZOFFSETFROM:+0200
TZOFFSETTO:+0100
TZNAME:CET
DTSTART:20251026T010000
END:STANDARD
END:VTIMEZONE
BEGIN:VEVENT
DTSTART;TZID=Europe/Warsaw:20250610T100000
DTEND;TZID=Europe/Warsaw:20250610T123000
DTSTAMP:20260421T145053
CREATED:20250609T070614Z
LAST-MODIFIED:20250609T070614Z
UID:3035-1749549600-1749558600@mosgorzow.pl
SUMMARY:Turniej Golfa dla uczniów szkół ponadpodstwowych
DESCRIPTION:
URL:https://mosgorzow.pl/event/turniej-golfa-dla-uczniow-szkol-ponadpodstwowych/
LOCATION:Pole Golfowe ZAWARCIE\, ul. Śląska 52\, Gorzów Wielkopolski\, Gorzowski\, 66-400\, Poland
END:VEVENT
END:VCALENDAR