BEGIN:VCALENDAR
VERSION:2.0
PRODID:-//MOS GORZÓW Międzyszkolny Ośrodek Sportowy Gorzów Wielkopolski - ECPv5.10.1//NONSGML v1.0//EN
CALSCALE:GREGORIAN
METHOD:PUBLISH
X-WR-CALNAME:MOS GORZÓW Międzyszkolny Ośrodek Sportowy Gorzów Wielkopolski
X-ORIGINAL-URL:https://mosgorzow.pl
X-WR-CALDESC:Events for MOS GORZÓW Międzyszkolny Ośrodek Sportowy Gorzów Wielkopolski
BEGIN:VTIMEZONE
TZID:Europe/Warsaw
BEGIN:DAYLIGHT
TZOFFSETFROM:+0100
TZOFFSETTO:+0200
TZNAME:CEST
DTSTART:20240331T010000
END:DAYLIGHT
BEGIN:STANDARD
TZOFFSETFROM:+0200
TZOFFSETTO:+0100
TZNAME:CET
DTSTART:20241027T010000
END:STANDARD
END:VTIMEZONE
BEGIN:VEVENT
DTSTART;TZID=Europe/Warsaw:20241105T090000
DTEND;TZID=Europe/Warsaw:20241105T170000
DTSTAMP:20260426T003610
CREATED:20241025T105329Z
LAST-MODIFIED:20241025T110409Z
UID:2720-1730797200-1730826000@mosgorzow.pl
SUMMARY:UNIHOKEJ DZIEWCZĄT - Igrzyska Dzieci
DESCRIPTION:
URL:https://mosgorzow.pl/event/unihokej-dziewczat-igrzyska-dzieci-3/
LOCATION:Szkoła Podstawowa nr 21\, ul. Taczaka\, Gorzów Wielkopolski\, Lubuskie\, 66 - 400\, Poland
END:VEVENT
END:VCALENDAR